BEGIN:VCALENDAR
VERSION:2.0
PRODID:-//DA Ferozepur - ECPv6.0.12//NONSGML v1.0//EN
CALSCALE:GREGORIAN
METHOD:PUBLISH
X-WR-CALNAME:DA Ferozepur
X-ORIGINAL-URL:https://ferozepur.darshanacademy.org
X-WR-CALDESC:Events for DA Ferozepur
REFRESH-INTERVAL;VALUE=DURATION:PT1H
X-Robots-Tag:noindex
X-PUBLISHED-TTL:PT1H
BEGIN:VTIMEZONE
TZID:America/Los_Angeles
BEGIN:DAYLIGHT
TZOFFSETFROM:-0800
TZOFFSETTO:-0700
TZNAME:PDT
DTSTART:20230312T100000
END:DAYLIGHT
BEGIN:STANDARD
TZOFFSETFROM:-0700
TZOFFSETTO:-0800
TZNAME:PST
DTSTART:20231105T090000
END:STANDARD
BEGIN:DAYLIGHT
TZOFFSETFROM:-0800
TZOFFSETTO:-0700
TZNAME:PDT
DTSTART:20240310T100000
END:DAYLIGHT
BEGIN:STANDARD
TZOFFSETFROM:-0700
TZOFFSETTO:-0800
TZNAME:PST
DTSTART:20241103T090000
END:STANDARD
END:VTIMEZONE
BEGIN:VEVENT
DTSTART;TZID=America/Los_Angeles:20240108T000000
DTEND;TZID=America/Los_Angeles:20240108T000000
DTSTAMP:20260424T051439
CREATED:20230510T070208Z
LAST-MODIFIED:20230510T070208Z
UID:3661-1704672000-1704672000@ferozepur.darshanacademy.org
SUMMARY:INTERNAL WORKSHOP ON METHODOLOGY
DESCRIPTION:
URL:https://ferozepur.darshanacademy.org/event/internal-workshop-on-methodology-3/
CATEGORIES:PROFESSIONAL DEVELOPMENT PROGRAME
END:VEVENT
BEGIN:VEVENT
DTSTART;TZID=America/Los_Angeles:20240105T000000
DTEND;TZID=America/Los_Angeles:20240105T000000
DTSTAMP:20260424T051439
CREATED:20230510T070208Z
LAST-MODIFIED:20230510T070208Z
UID:3660-1704412800-1704412800@ferozepur.darshanacademy.org
SUMMARY:NATIONAL WORKSHOP ON SPIRITUAL CURRICULUM TEACHING TIPS
DESCRIPTION:
URL:https://ferozepur.darshanacademy.org/event/national-workshop-on-spiritual-curriculum-teaching-tips-2/
CATEGORIES:PROFESSIONAL DEVELOPMENT PROGRAME
END:VEVENT
BEGIN:VEVENT
DTSTART;TZID=America/Los_Angeles:20231230T000000
DTEND;TZID=America/Los_Angeles:20231230T000000
DTSTAMP:20260424T051439
CREATED:20230510T070207Z
LAST-MODIFIED:20230510T070207Z
UID:3658-1703894400-1703894400@ferozepur.darshanacademy.org
SUMMARY:INTERNAL WORKSHOP ON BOOK REVIEW
DESCRIPTION:
URL:https://ferozepur.darshanacademy.org/event/internal-workshop-on-book-review/
CATEGORIES:PROFESSIONAL DEVELOPMENT PROGRAME
END:VEVENT
BEGIN:VEVENT
DTSTART;TZID=America/Los_Angeles:20231216T000000
DTEND;TZID=America/Los_Angeles:20231216T000000
DTSTAMP:20260424T051439
CREATED:20230510T070200Z
LAST-MODIFIED:20230510T070200Z
UID:3653-1702684800-1702684800@ferozepur.darshanacademy.org
SUMMARY:INTERNAL SPIRITUAL TALK FOR TEACHERS
DESCRIPTION:
URL:https://ferozepur.darshanacademy.org/event/internal-spiritual-talk-for-teachers/
CATEGORIES:PROFESSIONAL DEVELOPMENT PROGRAME
END:VEVENT
BEGIN:VEVENT
DTSTART;TZID=America/Los_Angeles:20231123T000000
DTEND;TZID=America/Los_Angeles:20231123T000000
DTSTAMP:20260424T051439
CREATED:20230510T070150Z
LAST-MODIFIED:20230510T070150Z
UID:3648-1700697600-1700697600@ferozepur.darshanacademy.org
SUMMARY:NATIONAL SPIRITUAL TALK FOR PARENTS
DESCRIPTION:
URL:https://ferozepur.darshanacademy.org/event/national-spiritual-talk-for-parents/
CATEGORIES:PROFESSIONAL DEVELOPMENT PROGRAME
END:VEVENT
BEGIN:VEVENT
DTSTART;TZID=America/Los_Angeles:20231111T000000
DTEND;TZID=America/Los_Angeles:20231111T000000
DTSTAMP:20260424T051439
CREATED:20230510T070144Z
LAST-MODIFIED:20230510T070144Z
UID:3646-1699660800-1699660800@ferozepur.darshanacademy.org
SUMMARY:ZONAL WORKSHOP FOR TEACHERS TEACHING EVS CLASSES III - V
DESCRIPTION:
URL:https://ferozepur.darshanacademy.org/event/zonal-workshop-for-teachers-teaching-evs-classes-iii-v/
CATEGORIES:PROFESSIONAL DEVELOPMENT PROGRAME
END:VEVENT
BEGIN:VEVENT
DTSTART;TZID=America/Los_Angeles:20231027T000000
DTEND;TZID=America/Los_Angeles:20231027T000000
DTSTAMP:20260424T051439
CREATED:20230510T070132Z
LAST-MODIFIED:20230510T070132Z
UID:3641-1698364800-1698364800@ferozepur.darshanacademy.org
SUMMARY:NATIONAL SPIRITUAL TALK FOR TEACHERS
DESCRIPTION:
URL:https://ferozepur.darshanacademy.org/event/national-spiritual-talk-for-teachers/
CATEGORIES:PROFESSIONAL DEVELOPMENT PROGRAME
END:VEVENT
BEGIN:VEVENT
DTSTART;TZID=America/Los_Angeles:20231021T000000
DTEND;TZID=America/Los_Angeles:20231021T000000
DTSTAMP:20260424T051439
CREATED:20230510T070132Z
LAST-MODIFIED:20230510T070132Z
UID:3638-1697846400-1697846400@ferozepur.darshanacademy.org
SUMMARY:ZONAL WORKSHOP FOR TEACHERS TEACHING HINDI CLASSES III-V
DESCRIPTION:
URL:https://ferozepur.darshanacademy.org/event/zonal-workshop-for-teachers-teaching-hindi-classes-iii-v/
CATEGORIES:PROFESSIONAL DEVELOPMENT PROGRAME
END:VEVENT
BEGIN:VEVENT
DTSTART;TZID=America/Los_Angeles:20231014T000000
DTEND;TZID=America/Los_Angeles:20231014T000000
DTSTAMP:20260424T051439
CREATED:20230510T070116Z
LAST-MODIFIED:20230510T070116Z
UID:3636-1697241600-1697241600@ferozepur.darshanacademy.org
SUMMARY:INTERNAL SPIRITUAL TALK FOR PARENTS
DESCRIPTION:
URL:https://ferozepur.darshanacademy.org/event/internal-spiritual-talk-for-parents/
CATEGORIES:PROFESSIONAL DEVELOPMENT PROGRAME
END:VEVENT
BEGIN:VEVENT
DTSTART;TZID=America/Los_Angeles:20231007T000000
DTEND;TZID=America/Los_Angeles:20231007T000000
DTSTAMP:20260424T051439
CREATED:20230510T070116Z
LAST-MODIFIED:20230510T070116Z
UID:3634-1696636800-1696636800@ferozepur.darshanacademy.org
SUMMARY:ZONAL WORKSHOP FOR TEACHERS TEACHING  ENGLISH CLASSES III - V
DESCRIPTION:
URL:https://ferozepur.darshanacademy.org/event/zonal-workshop-for-teachers-teaching-english-classes-iii-v/
CATEGORIES:PROFESSIONAL DEVELOPMENT PROGRAME
END:VEVENT
BEGIN:VEVENT
DTSTART;TZID=America/Los_Angeles:20230824T000000
DTEND;TZID=America/Los_Angeles:20230824T000000
DTSTAMP:20260424T051439
CREATED:20230510T070035Z
LAST-MODIFIED:20230510T070035Z
UID:3614-1692835200-1692835200@ferozepur.darshanacademy.org
SUMMARY:NATIONAL WORKSHOP FOR PRE-PRIMARY TEACHERS
DESCRIPTION:
URL:https://ferozepur.darshanacademy.org/event/national-workshop-for-pre-primary-teachers/
CATEGORIES:PROFESSIONAL DEVELOPMENT PROGRAME
END:VEVENT
BEGIN:VEVENT
DTSTART;TZID=America/Los_Angeles:20230805T000000
DTEND;TZID=America/Los_Angeles:20230805T000000
DTSTAMP:20260424T051439
CREATED:20230510T070025Z
LAST-MODIFIED:20230510T070025Z
UID:3608-1691193600-1691193600@ferozepur.darshanacademy.org
SUMMARY:ZONAL WORKSHOP FOR TEACHERS TEACHING MATHEMATICS CLASSES III - V
DESCRIPTION:
URL:https://ferozepur.darshanacademy.org/event/zonal-workshop-for-teachers-teaching-mathematics-classes-iii-v/
CATEGORIES:PROFESSIONAL DEVELOPMENT PROGRAME
END:VEVENT
BEGIN:VEVENT
DTSTART;TZID=America/Los_Angeles:20230728T000000
DTEND;TZID=America/Los_Angeles:20230728T000000
DTSTAMP:20260424T051440
CREATED:20230510T070016Z
LAST-MODIFIED:20230510T070016Z
UID:3603-1690502400-1690502400@ferozepur.darshanacademy.org
SUMMARY:ZONAL WORKSHOP OF FOUNDATIONAL LITERACY AND NUMERACY FOR MOTHER TEACHER CLASSES (I & II)
DESCRIPTION:
URL:https://ferozepur.darshanacademy.org/event/zonal-workshop-of-foundational-literacy-and-numeracy-for-mother-teacher-classes-i-ii/
CATEGORIES:PROFESSIONAL DEVELOPMENT PROGRAME
END:VEVENT
BEGIN:VEVENT
DTSTART;TZID=America/Los_Angeles:20230701T000000
DTEND;TZID=America/Los_Angeles:20230701T000000
DTSTAMP:20260424T051440
CREATED:20230510T065949Z
LAST-MODIFIED:20230510T065949Z
UID:3597-1688169600-1688169600@ferozepur.darshanacademy.org
SUMMARY:INTERNAL WORKSHOP ON HOW TO DEAL WITH DISTIRBING CHILD FOR TEACHERS
DESCRIPTION:
URL:https://ferozepur.darshanacademy.org/event/internal-workshop-on-how-to-deal-with-distirbing-child-for-teachers/
CATEGORIES:PROFESSIONAL DEVELOPMENT PROGRAME
END:VEVENT
BEGIN:VEVENT
DTSTART;TZID=America/Los_Angeles:20230628T000000
DTEND;TZID=America/Los_Angeles:20230628T000000
DTSTAMP:20260424T051440
CREATED:20230510T065948Z
LAST-MODIFIED:20230510T065948Z
UID:3593-1687910400-1687910400@ferozepur.darshanacademy.org
SUMMARY:INTERNAL WORKSHOP ON METHODOLOGY
DESCRIPTION:
URL:https://ferozepur.darshanacademy.org/event/internal-workshop-on-methodology-2/
CATEGORIES:PROFESSIONAL DEVELOPMENT PROGRAME
END:VEVENT
BEGIN:VEVENT
DTSTART;TZID=America/Los_Angeles:20230627T000000
DTEND;TZID=America/Los_Angeles:20230627T000000
DTSTAMP:20260424T051440
CREATED:20230510T065931Z
LAST-MODIFIED:20230510T065931Z
UID:3592-1687824000-1687824000@ferozepur.darshanacademy.org
SUMMARY:INTERNAL WORKSHOP ON METHODOLOGY
DESCRIPTION:
URL:https://ferozepur.darshanacademy.org/event/internal-workshop-on-methodology/
CATEGORIES:PROFESSIONAL DEVELOPMENT PROGRAME
END:VEVENT
BEGIN:VEVENT
DTSTART;TZID=America/Los_Angeles:20230622T000000
DTEND;TZID=America/Los_Angeles:20230624T000000
DTSTAMP:20260424T051440
CREATED:20230510T065931Z
LAST-MODIFIED:20230510T065931Z
UID:3590-1687392000-1687564800@ferozepur.darshanacademy.org
SUMMARY:NATIONAL WORKSHOP FOR PRINCIPALS/HEADS / CO-ORDINATORS
DESCRIPTION:
URL:https://ferozepur.darshanacademy.org/event/national-workshop-for-principals-heads-co-ordinators/
CATEGORIES:PROFESSIONAL DEVELOPMENT PROGRAME
END:VEVENT
BEGIN:VEVENT
DTSTART;TZID=America/Los_Angeles:20230606T000000
DTEND;TZID=America/Los_Angeles:20230606T000000
DTSTAMP:20260424T051440
CREATED:20230510T065922Z
LAST-MODIFIED:20230510T065922Z
UID:3586-1686009600-1686009600@ferozepur.darshanacademy.org
SUMMARY:INTERNAL WORKSHOP ON HOW TO MAKE THE CHILD WRITE BETTER
DESCRIPTION:
URL:https://ferozepur.darshanacademy.org/event/internal-workshop-on-how-to-make-the-child-write-better/
CATEGORIES:PROFESSIONAL DEVELOPMENT PROGRAME
END:VEVENT
BEGIN:VEVENT
DTSTART;TZID=America/Los_Angeles:20230605T000000
DTEND;TZID=America/Los_Angeles:20230605T000000
DTSTAMP:20260424T051440
CREATED:20230510T065922Z
LAST-MODIFIED:20230510T065922Z
UID:3585-1685923200-1685923200@ferozepur.darshanacademy.org
SUMMARY:INTERNAL WORKSHOP ON BLACKBOARD SKILL FOR TEACHERS
DESCRIPTION:
URL:https://ferozepur.darshanacademy.org/event/internal-workshop-on-blackboard-skill-for-teachers/
CATEGORIES:PROFESSIONAL DEVELOPMENT PROGRAME
END:VEVENT
BEGIN:VEVENT
DTSTART;TZID=America/Los_Angeles:20230603T000000
DTEND;TZID=America/Los_Angeles:20230603T000000
DTSTAMP:20260424T051440
CREATED:20230510T065921Z
LAST-MODIFIED:20230510T065921Z
UID:3583-1685750400-1685750400@ferozepur.darshanacademy.org
SUMMARY:NATIONAL WORKSHOP FOR TEACHER TRAINERS OF SPIRITUAL CURRICULUM
DESCRIPTION:
URL:https://ferozepur.darshanacademy.org/event/national-workshop-for-teacher-trainers-of-spiritual-curriculum/
CATEGORIES:PROFESSIONAL DEVELOPMENT PROGRAME
END:VEVENT
BEGIN:VEVENT
DTSTART;TZID=America/Los_Angeles:20230527T000000
DTEND;TZID=America/Los_Angeles:20230527T000000
DTSTAMP:20260424T051440
CREATED:20230510T065913Z
LAST-MODIFIED:20230510T065913Z
UID:3582-1685145600-1685145600@ferozepur.darshanacademy.org
SUMMARY:INTERNAL WORKSHOP ON DEMONSTRATION LESSON
DESCRIPTION:
URL:https://ferozepur.darshanacademy.org/event/internal-workshop-on-demonstration-lesson-2/
CATEGORIES:PROFESSIONAL DEVELOPMENT PROGRAME
END:VEVENT
BEGIN:VEVENT
DTSTART;TZID=America/Los_Angeles:20230526T000000
DTEND;TZID=America/Los_Angeles:20230526T000000
DTSTAMP:20260424T051440
CREATED:20230510T065912Z
LAST-MODIFIED:20230510T065912Z
UID:3581-1685059200-1685059200@ferozepur.darshanacademy.org
SUMMARY:INTERNAL WORKSHOP ON DEMONSTRATION LESSON
DESCRIPTION:
URL:https://ferozepur.darshanacademy.org/event/internal-workshop-on-demonstration-lesson/
CATEGORIES:PROFESSIONAL DEVELOPMENT PROGRAME
END:VEVENT
BEGIN:VEVENT
DTSTART;TZID=America/Los_Angeles:20230519T000000
DTEND;TZID=America/Los_Angeles:20230519T000000
DTSTAMP:20260424T051440
CREATED:20230510T065912Z
LAST-MODIFIED:20230510T065912Z
UID:3580-1684454400-1684454400@ferozepur.darshanacademy.org
SUMMARY:NATIONAL WORKSHOP ON SPIRITUAL CURRICULUM TEACHING TIPS
DESCRIPTION:
URL:https://ferozepur.darshanacademy.org/event/national-workshop-on-spiritual-curriculum-teaching-tips/
CATEGORIES:PROFESSIONAL DEVELOPMENT PROGRAME
END:VEVENT
END:VCALENDAR